BEGIN:VCALENDAR
VERSION:2.0
PRODID:spatie/icalendar-generator
DESCRIPTION:Veranstaltungen von Landfrauen Rotenburg Wümme
X-WR-CALDESC:Veranstaltungen von Landfrauen Rotenburg Wümme
REFRESH-INTERVAL;VALUE=DURATION:PT1440M
X-PUBLISHED-TTL:PT1440M
BEGIN:VTIMEZONE
TZID:Europe/Berlin
BEGIN:STANDARD
DTSTART:20251026T030000Z
TZOFFSETFROM:+0200
TZOFFSETTO:+0100
END:STANDARD
BEGIN:DAYLIGHT
DTSTART:20260329T020000Z
TZOFFSETFROM:+0100
TZOFFSETTO:+0200
END:DAYLIGHT
END:VTIMEZONE
BEGIN:VTIMEZONE
TZID:UTC
BEGIN:STANDARD
DTSTART:20250725T075056Z
TZOFFSETFROM:+0000
TZOFFSETTO:+0000
END:STANDARD
END:VTIMEZONE
BEGIN:VEVENT
UID:218-181
DTSTAMP:20260421T075056Z
SUMMARY:Rechtliche Betreuung - Wass muss ich beachten?
LOCATION:Bassens Bauernladen Finteler Weg 2  Scheeßel
ORGANIZER;CN=isabell:MAILTO:ipbumberger@freenet.de
DTSTART;TZID=Europe/Berlin:20260203T190000
DTEND;TZID=Europe/Berlin:20260203T200000
X-ALT-DESC;FMTTYPE=TEXT/HTML:Referentin: Brigitte Nees-Baethke\, Freiberufl
 iche Rechtsbetreuerin und Case Managerin Manchmal geht es unglaublich schn
 ell\, dass man sich mit diesem Thema auseinandersetzen muss. Sei es eine D
 emenz\, eine psychiatrische Erkrankung oder eine Behinderung. Zu diesen Vo
 raussetzungen und dem Ablauf des Betreuungsverfahrens wird uns die Referen
 tin aufklären. Anschließend werden offene Fragen abgeklärt. Kosten pro 
 Person 5 € (Bezahlung&amp;hellip\;
CATEGORIES:Rotenburg
URL;VALUE=URI:https://landfrauen-rotenburg.de/mc-events/rechtliche-betreuun
 g-wass-muss-ich-beachten/
METHOD:PUBLISH
END:VEVENT
END:VCALENDAR