BEGIN:VCALENDAR
VERSION:2.0
PRODID:spatie/icalendar-generator
DESCRIPTION:Veranstaltungen von Landfrauen Rotenburg Wümme
X-WR-CALDESC:Veranstaltungen von Landfrauen Rotenburg Wümme
REFRESH-INTERVAL;VALUE=DURATION:PT1440M
X-PUBLISHED-TTL:PT1440M
BEGIN:VTIMEZONE
TZID:Europe/Berlin
BEGIN:DAYLIGHT
DTSTART:20250330T020000Z
TZOFFSETFROM:+0100
TZOFFSETTO:+0200
END:DAYLIGHT
BEGIN:STANDARD
DTSTART:20251026T030000Z
TZOFFSETFROM:+0200
TZOFFSETTO:+0100
END:STANDARD
BEGIN:DAYLIGHT
DTSTART:20260329T020000Z
TZOFFSETFROM:+0100
TZOFFSETTO:+0200
END:DAYLIGHT
END:VTIMEZONE
BEGIN:VTIMEZONE
TZID:UTC
BEGIN:STANDARD
DTSTART:20250725T075123Z
TZOFFSETFROM:+0000
TZOFFSETTO:+0000
END:STANDARD
END:VTIMEZONE
BEGIN:VEVENT
UID:232-168
DTSTAMP:20260421T075123Z
SUMMARY:Herz ist Trumpf - Doppelkopf für Ladies
LOCATION:MGH Waffensen Immentun 1
ORGANIZER;CN=isabell:MAILTO:ipbumberger@freenet.de
DTSTART;TZID=Europe/Berlin:20251016T190000
DTEND;TZID=Europe/Berlin:20251016T213000
X-ALT-DESC;FMTTYPE=TEXT/HTML:Egal ob Doppelkopfkönner oder neugierige Anf
 ängerin\, alle sind herzlich Willkommen. Es wird gemischt\, gespielt und 
 gestochen. &amp;nbsp\; Kosten pro Person 5 € (Bezahlung vor Ort) &amp;nbsp\; Anm
 eldung ab 18.09. (19:00 Uhr) – 09.10.2025 Rita Haase\, Tel. 04268 981091
  oder unter 0151 59401905 per Whats App
CATEGORIES:Rotenburg
URL;VALUE=URI:https://landfrauen-rotenburg.de/mc-events/herz-ist-trumpf-dop
 pelkopf-fuer-ladies/
METHOD:PUBLISH
END:VEVENT
END:VCALENDAR