BEGIN:VCALENDAR
VERSION:2.0
PRODID:spatie/icalendar-generator
DESCRIPTION:Veranstaltungen von Landfrauen Rotenburg Wümme
X-WR-CALDESC:Veranstaltungen von Landfrauen Rotenburg Wümme
REFRESH-INTERVAL;VALUE=DURATION:PT1440M
X-PUBLISHED-TTL:PT1440M
BEGIN:VTIMEZONE
TZID:Europe/Berlin
BEGIN:STANDARD
DTSTART:20241027T030000Z
TZOFFSETFROM:+0200
TZOFFSETTO:+0100
END:STANDARD
BEGIN:DAYLIGHT
DTSTART:20250330T020000Z
TZOFFSETFROM:+0100
TZOFFSETTO:+0200
END:DAYLIGHT
BEGIN:STANDARD
DTSTART:20251026T030000Z
TZOFFSETFROM:+0200
TZOFFSETTO:+0100
END:STANDARD
END:VTIMEZONE
BEGIN:VTIMEZONE
TZID:UTC
BEGIN:STANDARD
DTSTART:20250726T120525Z
TZOFFSETFROM:+0000
TZOFFSETTO:+0000
END:STANDARD
END:VTIMEZONE
BEGIN:VEVENT
UID:148-122
DTSTAMP:20260422T120525Z
SUMMARY:4 TAGE RADREISE LEIPZIGER SEENLAND
LOCATION:
ORGANIZER;CN=isabell:MAILTO:ipbumberger@freenet.de
DTSTART;TZID=Europe/Berlin:20250509T060000
DTEND;TZID=Europe/Berlin:20250512T180000
X-ALT-DESC;FMTTYPE=TEXT/HTML:Hier sind Tradition und Fortschritt auf Schrit
 t und Tritt zu spüren. Von je her gilt Leipzig als Heimat der Musik\, Kul
 tur und des Handels. Bedeutende Persönlichkeiten wie Bach\, Goethe\, Mend
 elsohn\, Schu- mann und Lessing hinterließen zahlreiche Spuren. Die Stadt
  erlebte in den letzten Jahren viel Zuzug aus anderen Bundesländern und h
 eißt im Volksmund „Hype-zig“. Der&amp;hellip\;
CATEGORIES:Rotenburg
URL;VALUE=URI:https://landfrauen-rotenburg.de/mc-events/4-tage-radreise-lei
 pziger-seenland/
METHOD:PUBLISH
END:VEVENT
END:VCALENDAR